BEGIN:VCALENDAR
VERSION:2.0
PRODID:-//Tukios.com/
BEGIN:VEVENT
UID:ac0a0434-6995-4749-a521-6a1a5fe9e2c3@www.schrader-howell.com
DTSTAMP:20260425T162437Z
DTSTART:20260428T140000Z
DTEND:20260428T150000Z
SUMMARY:Funeral Service
DESCRIPTION:
URL:https://www.schrader-howell.com/obituaries/shane-mroz
LOCATION: 280 S. Main St  Plymouth MI 48170
GEO:42.3712668;-83.4690647
END:VEVENT
END:VCALENDAR