BEGIN:VCALENDAR
VERSION:2.0
PRODID:-//Tukios.com/
BEGIN:VEVENT
UID:fd580470-53ed-4e1d-8192-0ad2adc47106@www.schrader-howell.com
DTSTAMP:20260425T162258Z
DTSTART:20260427T200000Z
DTEND:20260428T000000Z
SUMMARY:Visitation
DESCRIPTION:
URL:https://www.schrader-howell.com/obituaries/shane-mroz
LOCATION: 280 S. Main St  Plymouth MI 48170
GEO:42.3712668;-83.4690647
END:VEVENT
END:VCALENDAR