BEGIN:VCALENDAR
VERSION:2.0
PRODID:-//Tukios.com/
BEGIN:VEVENT
UID:b958bb5a-b6e5-4625-8ada-994f99c7ff19@www.schrader-howell.com
DTSTAMP:20260423T222703Z
DTSTART:20260516T170000Z
DTEND:20260516T200000Z
SUMMARY:Memorial Gathering
DESCRIPTION:
URL:https://www.schrader-howell.com/obituaries/kim-mankvitz
LOCATION: 280 S. Main St  Plymouth MI 48170
GEO:42.3712668;-83.4690647
END:VEVENT
END:VCALENDAR