BEGIN:VCALENDAR
VERSION:2.0
PRODID:-//Tukios.com/
BEGIN:VEVENT
UID:0416c91a-1ea7-476d-b89f-49830be69260@www.schrader-howell.com
DTSTAMP:20260423T204046Z
DTSTART:20260509T150000Z
DTEND:20260509T160000Z
SUMMARY:Memorial Service
DESCRIPTION:
URL:https://www.schrader-howell.com/obituaries/johnie-belcher-tylka
LOCATION:Praise Community Church 45000 N. Territorial Rd.  Plymouth MI 
	48170
GEO:42.3770998;-83.4868162
END:VEVENT
END:VCALENDAR