BEGIN:VCALENDAR
VERSION:2.0
PRODID:-//Tukios.com/
BEGIN:VEVENT
UID:b60743af-a84f-4808-abae-5ccb5059cf5f@www.schrader-howell.com
DTSTAMP:20260423T204126Z
DTSTART:20260508T180000Z
DTEND:20260509T000000Z
SUMMARY:Visitation
DESCRIPTION:
URL:https://www.schrader-howell.com/obituaries/johnie-belcher-tylka
LOCATION:Schrader-Howell Funeral Home 280 S. Main St  Plymouth MI 48170
GEO:42.3712668;-83.4690647
END:VEVENT
END:VCALENDAR