BEGIN:VCALENDAR
VERSION:2.0
PRODID:-//Tukios.com/
BEGIN:VEVENT
UID:334b21c6-add0-4c6a-be6b-4cf4a9fb7cc4@www.schrader-howell.com
DTSTAMP:20260425T222533Z
DTSTART:20260429T150000Z
DTEND:20260429T160000Z
SUMMARY:Funeral Service
DESCRIPTION:
URL:https://www.schrader-howell.com/obituaries/daniel-ellis
LOCATION: 280 S. Main St  Plymouth MI 48170
GEO:42.3712668;-83.4690647
END:VEVENT
END:VCALENDAR