BEGIN:VCALENDAR
VERSION:2.0
PRODID:-//Tukios.com/
BEGIN:VEVENT
UID:a203a906-869e-48dc-b50e-126de877407f@www.schrader-howell.com
DTSTAMP:20260425T222705Z
DTSTART:20260428T080000Z
DTEND:20260429T010000Z
SUMMARY:Visitation
DESCRIPTION:
URL:https://www.schrader-howell.com/obituaries/daniel-ellis
LOCATION: 280 S. Main St  Plymouth MI 48170
GEO:42.3712668;-83.4690647
END:VEVENT
END:VCALENDAR