BEGIN:VCALENDAR
VERSION:2.0
PRODID:-//Tukios.com/
BEGIN:VEVENT
UID:c5dba2b2-489e-4a5e-8708-736b349159cf@www.schrader-howell.com
DTSTAMP:20260422T194547Z
DTSTART:20260516T150000Z
DTEND:20260516T160000Z
SUMMARY:Memorial Service
DESCRIPTION:
URL:https://www.schrader-howell.com/obituaries/carolyn-jacobs
LOCATION: 574 South Sheldon Road  Plymouth MI 48170
GEO:42.3688332;-83.4807746
END:VEVENT
END:VCALENDAR