BEGIN:VCALENDAR
VERSION:2.0
PRODID:-//Tukios.com/
BEGIN:VEVENT
UID:ac01b996-aa92-4827-8c13-002b0de6a38c@www.schrader-howell.com
DTSTAMP:20260422T194900Z
DTSTART:20260516T140000Z
DTEND:20260516T150000Z
SUMMARY:Memorial Gathering
DESCRIPTION:
URL:https://www.schrader-howell.com/obituaries/carolyn-jacobs
LOCATION: 574 South Sheldon Road  Plymouth MI 48170
GEO:42.3688332;-83.4807746
END:VEVENT
END:VCALENDAR